BEGIN:VCALENDAR
VERSION:2.0
METHOD:PUBLISH
BEGIN:VEVENT
UID:WILD_APRICOT_EVENT_2851566_SESSION_1
DTSTART:20180512T210000Z
DTEND:20180513T060000Z
SUMMARY:Mothers Day Classic Walk
LOCATION:clubhouse
DESCRIPTION:https://www.flindersyc.com.au/event-2851566\n\n\n  Download Flyer: MDC18 FYC info.pdf\n\n
DTSTAMP:20260424T162808Z
END:VEVENT
END:VCALENDAR
