BEGIN:VCALENDAR
VERSION:2.0
METHOD:PUBLISH
BEGIN:VEVENT
UID:WILD_APRICOT_EVENT_2906195_SESSION_1
DTSTART:20180506T000000Z
DTEND:20180506T020000Z
SUMMARY:Book Club Member
LOCATION:clubhouse
DESCRIPTION:https://www.flindersyc.com.au/event-2906195\n\n\n\n
DTSTAMP:20260424T162817Z
END:VEVENT
END:VCALENDAR
