BEGIN:VCALENDAR
VERSION:2.0
METHOD:PUBLISH
BEGIN:VEVENT
UID:WILD_APRICOT_EVENT_2916395_SESSION_1
DTSTART:20180531T230000Z
DTEND:20180601T080000Z
SUMMARY:Private Function Set Up
LOCATION:
DESCRIPTION:https://www.flindersyc.com.au/event-2916395\n\n\n\n
DTSTAMP:20260424T191321Z
END:VEVENT
END:VCALENDAR
