BEGIN:VCALENDAR
VERSION:2.0
METHOD:PUBLISH
BEGIN:VEVENT
UID:WILD_APRICOT_EVENT_2923288_SESSION_1
DTSTART:20180608T023000Z
DTEND:20180608T053000Z
SUMMARY:Private Meeting UFO's
LOCATION:clubhouse
DESCRIPTION:https://www.flindersyc.com.au/event-2923288\n\n\n\n
DTSTAMP:20260424T171151Z
END:VEVENT
END:VCALENDAR
