BEGIN:VCALENDAR
VERSION:2.0
METHOD:PUBLISH
BEGIN:VEVENT
UID:WILD_APRICOT_EVENT_2944808_SESSION_1
DTSTART:20180621T050000Z
DTEND:20180621T133000Z
SUMMARY:Private Member Function
LOCATION:clubhouse
DESCRIPTION:https://www.flindersyc.com.au/event-2944808\n\n\n\n
DTSTAMP:20260424T160138Z
END:VEVENT
END:VCALENDAR
