BEGIN:VCALENDAR
VERSION:2.0
METHOD:PUBLISH
BEGIN:VEVENT
UID:WILD_APRICOT_EVENT_2973448_SESSION_1
DTSTART:20191114T220000Z
DTEND:20191115T123000Z
SUMMARY:Private Function Set Up
LOCATION:
DESCRIPTION:https://www.flindersyc.com.au/event-2973448\n\n\n\n
DTSTAMP:20260424T183841Z
END:VEVENT
END:VCALENDAR
