BEGIN:VCALENDAR
VERSION:2.0
METHOD:PUBLISH
BEGIN:VEVENT
UID:WILD_APRICOT_EVENT_2973450_SESSION_1
DTSTART:20191115T220000Z
DTEND:20191116T125900Z
SUMMARY:Private Function
LOCATION:clubhouse
DESCRIPTION:https://www.flindersyc.com.au/event-2973450\n\n\n\n
DTSTAMP:20260424T174857Z
END:VEVENT
END:VCALENDAR
