BEGIN:VCALENDAR
VERSION:2.0
METHOD:PUBLISH
BEGIN:VEVENT
UID:WILD_APRICOT_EVENT_3025316_SESSION_1
DTSTART:20191025T220000Z
DTEND:20191026T125900Z
SUMMARY:Private Function
LOCATION:clubhouse
DESCRIPTION:https://www.flindersyc.com.au/event-3025316\n\n\n\n
DTSTAMP:20260424T173700Z
END:VEVENT
END:VCALENDAR
