BEGIN:VCALENDAR
VERSION:2.0
METHOD:PUBLISH
BEGIN:VEVENT
UID:WILD_APRICOT_EVENT_3033785_SESSION_1
DTSTART:20181204T220000Z
DTEND:20181205T125900Z
SUMMARY:Private Function
LOCATION:clubhouse
DESCRIPTION:https://www.flindersyc.com.au/event-3033785\n\n\n\n
DTSTAMP:20260424T173739Z
END:VEVENT
END:VCALENDAR
