BEGIN:VCALENDAR
VERSION:2.0
METHOD:PUBLISH
BEGIN:VEVENT
UID:WILD_APRICOT_EVENT_3060133_SESSION_1
DTSTART:20181006T230000Z
DTEND:20181007T010000Z
SUMMARY:FYC Racing Rules Refresher & Discussion
LOCATION:Zigi's Bar at Flinders Hotel
DESCRIPTION:https://www.flindersyc.com.au/event-3060133\n\nA new FYC initiative on Sunday 7 October 2018\n  A must for all OTB and KB Sailors\, this free session will go over the basic rules of racing as a refresher followed by a group discussion with examples.\n  The Session will be lead by Mr Gordon Syme of  Yachtmaster Sailing.\n  All active sailors are encouraged to attend\, not just to make sure you are complying but to learn how to use the rules to your advantage! \n
DTSTAMP:20260424T154649Z
END:VEVENT
END:VCALENDAR
