BEGIN:VCALENDAR
VERSION:2.0
METHOD:PUBLISH
BEGIN:VEVENT
UID:WILD_APRICOT_EVENT_3063258_SESSION_1
DTSTART:20181104T010000Z
DTEND:20181104T010000Z
SUMMARY:Opening Day & Racing
LOCATION:FYC
DESCRIPTION:https://www.flindersyc.com.au/event-3063258\n\nOpening Day\n  Sail Past 1400\n  OTB Spring Race 1 & Agg/Champ 1 1430 Start\n\n  To Do List:\n  Rig and check your boat is ready to sail\n  Send in your safety declaration and race entry form see Sailing Program Information\n  Be prepared to help get safety boats ready and on the water\n
DTSTAMP:20260424T174218Z
END:VEVENT
END:VCALENDAR
