BEGIN:VCALENDAR
VERSION:2.0
METHOD:PUBLISH
BEGIN:VEVENT
UID:WILD_APRICOT_EVENT_3063259_SESSION_1
DTSTART:20181111T023000Z
DTEND:20181111T023000Z
SUMMARY:OTB Racing Spring 2 & 3
LOCATION:FYC
DESCRIPTION:https://www.flindersyc.com.au/event-3063259\n\n\n\n
DTSTAMP:20260424T162225Z
END:VEVENT
END:VCALENDAR
