BEGIN:VCALENDAR
VERSION:2.0
METHOD:PUBLISH
BEGIN:VEVENT
UID:WILD_APRICOT_EVENT_3063260_SESSION_1
DTSTART:20181124T030000Z
DTEND:20181124T030000Z
SUMMARY:I14 & B14 Skiff Racing
LOCATION:FYC
DESCRIPTION:https://www.flindersyc.com.au/event-3063260\n\nVisit from I14 & B 14 Skiffs - Racing\n\n
DTSTAMP:20260424T162940Z
END:VEVENT
END:VCALENDAR
