BEGIN:VCALENDAR
VERSION:2.0
METHOD:PUBLISH
BEGIN:VEVENT
UID:WILD_APRICOT_EVENT_3063270_SESSION_1
DTSTART:20181202T023000Z
DTEND:20181202T023000Z
SUMMARY:Racing OTB Spring 6 & 7
LOCATION:FYC
DESCRIPTION:https://www.flindersyc.com.au/event-3063270\n\n\n\n  \n\n
DTSTAMP:20260424T161846Z
END:VEVENT
END:VCALENDAR
