BEGIN:VCALENDAR
VERSION:2.0
METHOD:PUBLISH
BEGIN:VEVENT
UID:WILD_APRICOT_EVENT_3063271_SESSION_1
DTSTART:20181209T023000Z
DTEND:20181209T023000Z
SUMMARY:Racing OTB Spring 8 & 9
LOCATION:FYC
DESCRIPTION:https://www.flindersyc.com.au/event-3063271\n\n\n\n  \n\n
DTSTAMP:20260424T162727Z
END:VEVENT
END:VCALENDAR
