BEGIN:VCALENDAR
VERSION:2.0
METHOD:PUBLISH
BEGIN:VEVENT
UID:WILD_APRICOT_EVENT_3063272_SESSION_1
DTSTART:20181125T000000Z
DTEND:20181125T000000Z
SUMMARY:I14 & B14 Skiff Racing
LOCATION:FYC
DESCRIPTION:https://www.flindersyc.com.au/event-3063272\n\nI14 & B 14 Sprint Racing\n  \n\n
DTSTAMP:20260424T191126Z
END:VEVENT
END:VCALENDAR
