BEGIN:VCALENDAR
VERSION:2.0
METHOD:PUBLISH
BEGIN:VEVENT
UID:WILD_APRICOT_EVENT_3063297_SESSION_1
DTSTART:20181230T023000Z
DTEND:20181230T023000Z
SUMMARY:OTB Racing Summer Cup 3 & 4
LOCATION:FYC
DESCRIPTION:https://www.flindersyc.com.au/event-3063297\n\n\n\n  \n\n
DTSTAMP:20260424T154720Z
END:VEVENT
END:VCALENDAR
