BEGIN:VCALENDAR
VERSION:2.0
METHOD:PUBLISH
BEGIN:VEVENT
UID:WILD_APRICOT_EVENT_3063298_SESSION_1
DTSTART:20190102T023000Z
DTEND:20190102T023000Z
SUMMARY:Summer 5 & 6 / Jun Champ 1 & 2
LOCATION:FYC
DESCRIPTION:https://www.flindersyc.com.au/event-3063298\n\n\n\n  \n\n
DTSTAMP:20260424T174012Z
END:VEVENT
END:VCALENDAR
