BEGIN:VCALENDAR
VERSION:2.0
METHOD:PUBLISH
BEGIN:VEVENT
UID:WILD_APRICOT_EVENT_3063299_SESSION_1
DTSTART:20190104T220000Z
DTEND:20190104T220000Z
SUMMARY:Adventure Sail to Balnarring
LOCATION:FYC/Balnarring
DESCRIPTION:https://www.flindersyc.com.au/event-3063299\n\nDeliver the FYC Pacers to Westernport YC for the teams Racing\n  \n\n
DTSTAMP:20260424T154834Z
END:VEVENT
END:VCALENDAR
