BEGIN:VCALENDAR
VERSION:2.0
METHOD:PUBLISH
BEGIN:VEVENT
UID:WILD_APRICOT_EVENT_3063301_SESSION_1
DTSTART:20190105T220000Z
DTEND:20190105T220000Z
SUMMARY:Westernport Team Racing
LOCATION:Balnarring
DESCRIPTION:https://www.flindersyc.com.au/event-3063301\n\nFYC Teams to compete in the Yachting Westernport teams racing Championship\n  \n\n
DTSTAMP:20260424T162353Z
END:VEVENT
END:VCALENDAR
