BEGIN:VCALENDAR
VERSION:2.0
METHOD:PUBLISH
BEGIN:VEVENT
UID:WILD_APRICOT_EVENT_3063302_SESSION_1
DTSTART:20190107T030000Z
DTEND:20190107T030000Z
SUMMARY:Adventure Sail Balnarring to FYC
LOCATION:Balnarring/FYC
DESCRIPTION:https://www.flindersyc.com.au/event-3063302\n\nReturn the FYC Pacers to FYC following the teams racing\n  \n\n
DTSTAMP:20260424T190027Z
END:VEVENT
END:VCALENDAR
