BEGIN:VCALENDAR
VERSION:2.0
METHOD:PUBLISH
BEGIN:VEVENT
UID:WILD_APRICOT_EVENT_3063304_SESSION_1
DTSTART:20190113T023000Z
DTEND:20190113T023000Z
SUMMARY:OTB Racing Agg/Championship 3 & 4 Junior Championship 3 & 4
LOCATION:FYC
DESCRIPTION:https://www.flindersyc.com.au/event-3063304\n\n\n\n    \n\n
DTSTAMP:20260424T162013Z
END:VEVENT
END:VCALENDAR
