BEGIN:VCALENDAR
VERSION:2.0
METHOD:PUBLISH
BEGIN:VEVENT
UID:WILD_APRICOT_EVENT_3063305_SESSION_1
DTSTART:20190120T023000Z
DTEND:20190120T023000Z
SUMMARY:OTB Racing Agg/Championship 5 & 6 Junior Championship 5 & 6
LOCATION:FYC
DESCRIPTION:https://www.flindersyc.com.au/event-3063305\n\n\n\n    \n\n
DTSTAMP:20260424T162054Z
END:VEVENT
END:VCALENDAR
