BEGIN:VCALENDAR
VERSION:2.0
METHOD:PUBLISH
BEGIN:VEVENT
UID:WILD_APRICOT_EVENT_3063306_SESSION_1
DTSTART:20190126T023000Z
DTEND:20190126T023000Z
SUMMARY:OTB Racing Brian Coleman Cup 1 & 2
LOCATION:FYC
DESCRIPTION:https://www.flindersyc.com.au/event-3063306\n\n\n\n  \n\n  \n\n
DTSTAMP:20260424T174019Z
END:VEVENT
END:VCALENDAR
