BEGIN:VCALENDAR
VERSION:2.0
METHOD:PUBLISH
BEGIN:VEVENT
UID:WILD_APRICOT_EVENT_3063308_SESSION_1
DTSTART:20190203T023000Z
DTEND:20190203T023000Z
SUMMARY:OTB Racing Agg/ Championship 6 & 7
LOCATION:FYC
DESCRIPTION:https://www.flindersyc.com.au/event-3063308\n\n\n\n  \n\n  \n\n
DTSTAMP:20260424T173820Z
END:VEVENT
END:VCALENDAR
