BEGIN:VCALENDAR
VERSION:2.0
METHOD:PUBLISH
BEGIN:VEVENT
UID:WILD_APRICOT_EVENT_3063312_SESSION_1
DTSTART:20190303T023000Z
DTEND:20190303T023000Z
SUMMARY:OTB Racing Agg/ Championship 14 & 15
LOCATION:FYC
DESCRIPTION:https://www.flindersyc.com.au/event-3063312\n\n\n\n  \n\n  \n\n
DTSTAMP:20260424T171528Z
END:VEVENT
END:VCALENDAR
