BEGIN:VCALENDAR
VERSION:2.0
METHOD:PUBLISH
BEGIN:VEVENT
UID:WILD_APRICOT_EVENT_3063313_SESSION_1
DTSTART:20190309T020000Z
DTEND:20190309T020000Z
SUMMARY:OTB Racing Labour Day 1 & 2 & Vignerons Trophy
LOCATION:FYC
DESCRIPTION:https://www.flindersyc.com.au/event-3063313\n\n\n\n  \n\n  \n\n
DTSTAMP:20260424T154124Z
END:VEVENT
END:VCALENDAR
