BEGIN:VCALENDAR
VERSION:2.0
METHOD:PUBLISH
BEGIN:VEVENT
UID:WILD_APRICOT_EVENT_3063314_SESSION_1
DTSTART:20190310T023000Z
DTEND:20190310T023000Z
SUMMARY:OTB Racing Labour Day 3 & 4
LOCATION:FYC
DESCRIPTION:https://www.flindersyc.com.au/event-3063314\n\n\n\n  \n\n  \n\n
DTSTAMP:20260424T174101Z
END:VEVENT
END:VCALENDAR
