BEGIN:VCALENDAR
VERSION:2.0
METHOD:PUBLISH
BEGIN:VEVENT
UID:WILD_APRICOT_EVENT_3063315_SESSION_1
DTSTART:20190317T023000Z
DTEND:20190317T023000Z
SUMMARY:OTB Racing Agg/Championship 16 & 17
LOCATION:FYC
DESCRIPTION:https://www.flindersyc.com.au/event-3063315\n\n\n\n  \n\n  \n\n
DTSTAMP:20260424T183235Z
END:VEVENT
END:VCALENDAR
