BEGIN:VCALENDAR
VERSION:2.0
METHOD:PUBLISH
BEGIN:VEVENT
UID:WILD_APRICOT_EVENT_3063316_SESSION_1
DTSTART:20190324T023000Z
DTEND:20190324T023000Z
SUMMARY:OTB Racing Agg/Championship 18 & 19
LOCATION:FYC
DESCRIPTION:https://www.flindersyc.com.au/event-3063316\n\n\n\n  \n\n  \n\n
DTSTAMP:20260424T162133Z
END:VEVENT
END:VCALENDAR
