BEGIN:VCALENDAR
VERSION:2.0
METHOD:PUBLISH
BEGIN:VEVENT
UID:WILD_APRICOT_EVENT_3063317_SESSION_1
DTSTART:20190331T023000Z
DTEND:20190331T023000Z
SUMMARY:OTB Racing Agg/Championship 20 & 21
LOCATION:FYC
DESCRIPTION:https://www.flindersyc.com.au/event-3063317\n\n\n\n  \n\n  \n\n
DTSTAMP:20260424T162739Z
END:VEVENT
END:VCALENDAR
