BEGIN:VCALENDAR
VERSION:2.0
METHOD:PUBLISH
BEGIN:VEVENT
UID:WILD_APRICOT_EVENT_3063318_SESSION_1
DTSTART:20190407T033000Z
DTEND:20190407T033000Z
SUMMARY:OTB Racing Agg/Championship 22 & 23
LOCATION:FYC
DESCRIPTION:https://www.flindersyc.com.au/event-3063318\n\n\n\n  \n\n  \n\n
DTSTAMP:20260424T191057Z
END:VEVENT
END:VCALENDAR
