BEGIN:VCALENDAR
VERSION:2.0
METHOD:PUBLISH
BEGIN:VEVENT
UID:WILD_APRICOT_EVENT_3063322_SESSION_1
DTSTART:20181226T220000Z
DTEND:20181231T070000Z
SUMMARY:Sailing School
LOCATION:FYC
DESCRIPTION:https://www.flindersyc.com.au/event-3063322\n\nTackers & Learn to Sail delivered by The Mobile Boatshed \n  \n\n  \n\n
DTSTAMP:20260424T191258Z
END:VEVENT
END:VCALENDAR
