BEGIN:VCALENDAR
VERSION:2.0
METHOD:PUBLISH
BEGIN:VEVENT
UID:WILD_APRICOT_EVENT_3063324_SESSION_1
DTSTART:20190104T063000Z
DTEND:20190104T063000Z
SUMMARY:KB Racing - Twilight 2
LOCATION:FYC
DESCRIPTION:https://www.flindersyc.com.au/event-3063324\n\nSternchaser\n  \n\n
DTSTAMP:20260424T174310Z
END:VEVENT
END:VCALENDAR
