BEGIN:VCALENDAR
VERSION:2.0
METHOD:PUBLISH
BEGIN:VEVENT
UID:WILD_APRICOT_EVENT_3063325_SESSION_1
DTSTART:20190111T063000Z
DTEND:20190111T063000Z
SUMMARY:KB Racing - Twilight 3
LOCATION:FYC
DESCRIPTION:https://www.flindersyc.com.au/event-3063325\n\nSternchaser\n  \n\n
DTSTAMP:20260424T162912Z
END:VEVENT
END:VCALENDAR
