BEGIN:VCALENDAR
VERSION:2.0
METHOD:PUBLISH
BEGIN:VEVENT
UID:WILD_APRICOT_EVENT_3063326_SESSION_1
DTSTART:20190118T063000Z
DTEND:20190118T063000Z
SUMMARY:KB Racing - Twilight 4
LOCATION:FYC
DESCRIPTION:https://www.flindersyc.com.au/event-3063326\n\nSternchaser\n  \n\n
DTSTAMP:20260424T170404Z
END:VEVENT
END:VCALENDAR
