BEGIN:VCALENDAR
VERSION:2.0
METHOD:PUBLISH
BEGIN:VEVENT
UID:WILD_APRICOT_EVENT_3063327_SESSION_1
DTSTART:20190125T063000Z
DTEND:20190125T063000Z
SUMMARY:KB Racing - Twilight 5
LOCATION:FYC
DESCRIPTION:https://www.flindersyc.com.au/event-3063327\n\nSternchaser\n  \n\n
DTSTAMP:20260424T174413Z
END:VEVENT
END:VCALENDAR
