BEGIN:VCALENDAR
VERSION:2.0
METHOD:PUBLISH
BEGIN:VEVENT
UID:WILD_APRICOT_EVENT_3063329_SESSION_1
DTSTART:20190201T050000Z
DTEND:20190201T050000Z
SUMMARY:KB Racing - Ocean Series 1 to Cowes
LOCATION:FYC
DESCRIPTION:https://www.flindersyc.com.au/event-3063329\n\n\n\n  \n\n
DTSTAMP:20260424T174156Z
END:VEVENT
END:VCALENDAR
