BEGIN:VCALENDAR
VERSION:2.0
METHOD:PUBLISH
BEGIN:VEVENT
UID:WILD_APRICOT_EVENT_3063330_SESSION_1
DTSTART:20190208T063000Z
DTEND:20190208T063000Z
SUMMARY:KB Racing - February Twilight 1
LOCATION:FYC
DESCRIPTION:https://www.flindersyc.com.au/event-3063330\n\nSternchaser\n  \n\n
DTSTAMP:20260424T162614Z
END:VEVENT
END:VCALENDAR
