BEGIN:VCALENDAR
VERSION:2.0
METHOD:PUBLISH
BEGIN:VEVENT
UID:WILD_APRICOT_EVENT_3063332_SESSION_1
DTSTART:20190222T063000Z
DTEND:20190222T063000Z
SUMMARY:KB Racing - February Twilight 3
LOCATION:FYC
DESCRIPTION:https://www.flindersyc.com.au/event-3063332\n\nSternchaser\n  \n\n
DTSTAMP:20260424T171350Z
END:VEVENT
END:VCALENDAR
