BEGIN:VCALENDAR
VERSION:2.0
METHOD:PUBLISH
BEGIN:VEVENT
UID:WILD_APRICOT_EVENT_3063333_SESSION_1
DTSTART:20181230T020000Z
DTEND:20181230T020000Z
SUMMARY:KB Racing - Aggregate 1
LOCATION:FYC
DESCRIPTION:https://www.flindersyc.com.au/event-3063333\n\nFleet Start 1 Race\n  \n\n
DTSTAMP:20260424T154605Z
END:VEVENT
END:VCALENDAR
