BEGIN:VCALENDAR
VERSION:2.0
METHOD:PUBLISH
BEGIN:VEVENT
UID:WILD_APRICOT_EVENT_3063345_SESSION_1
DTSTART:20190202T020000Z
DTEND:20190202T020000Z
SUMMARY:KB Racing - WP Challenge & Aggregate 5
LOCATION:Cowes YC
DESCRIPTION:https://www.flindersyc.com.au/event-3063345\n\n\n\n  \n\n
DTSTAMP:20260424T171203Z
END:VEVENT
END:VCALENDAR
