BEGIN:VCALENDAR
VERSION:2.0
METHOD:PUBLISH
BEGIN:VEVENT
UID:WILD_APRICOT_EVENT_3063347_SESSION_1
DTSTART:20190303T020000Z
DTEND:20190303T020000Z
SUMMARY:KB Racing -  Aggregate 7
LOCATION:FYC
DESCRIPTION:https://www.flindersyc.com.au/event-3063347\n\nFleet Start 1 Race\n\n  \n\n
DTSTAMP:20260424T162217Z
END:VEVENT
END:VCALENDAR
