BEGIN:VCALENDAR
VERSION:2.0
METHOD:PUBLISH
BEGIN:VEVENT
UID:WILD_APRICOT_EVENT_3063349_SESSION_1
DTSTART:20190324T020000Z
DTEND:20190324T020000Z
SUMMARY:KB Racing -  Aggregate 9
LOCATION:FYC
DESCRIPTION:https://www.flindersyc.com.au/event-3063349\n\nFleet Start 1 Race\n\n  \n\n
DTSTAMP:20260424T161906Z
END:VEVENT
END:VCALENDAR
