BEGIN:VCALENDAR
VERSION:2.0
METHOD:PUBLISH
BEGIN:VEVENT
UID:WILD_APRICOT_EVENT_3068305_SESSION_1
DTSTART:20181106T213000Z
DTEND:20181107T013000Z
SUMMARY:Private Meeting Flinders Probus
LOCATION:clubhouse
DESCRIPTION:https://www.flindersyc.com.au/event-3068305\n\n\n\n
DTSTAMP:20260424T171047Z
END:VEVENT
END:VCALENDAR
