BEGIN:VCALENDAR
VERSION:2.0
METHOD:PUBLISH
BEGIN:VEVENT
UID:WILD_APRICOT_EVENT_3099989_SESSION_1
DTSTART:20181126T060000Z
DTEND:20181126T110000Z
SUMMARY:Private Meeting Flinders Lions Club
LOCATION:clubhouse
DESCRIPTION:https://www.flindersyc.com.au/event-3099989\n\n\n\n
DTSTAMP:20260424T162023Z
END:VEVENT
END:VCALENDAR
