BEGIN:VCALENDAR
VERSION:2.0
METHOD:PUBLISH
BEGIN:VEVENT
UID:WILD_APRICOT_EVENT_3099995_SESSION_1
DTSTART:20190425T230000Z
DTEND:20190426T133000Z
SUMMARY:Private Function Set Up
LOCATION:
DESCRIPTION:https://www.flindersyc.com.au/event-3099995\n\n\n\n
DTSTAMP:20260424T171024Z
END:VEVENT
END:VCALENDAR
