BEGIN:VCALENDAR
VERSION:2.0
METHOD:PUBLISH
BEGIN:VEVENT
UID:WILD_APRICOT_EVENT_3099996_SESSION_1
DTSTART:20190426T230000Z
DTEND:20190427T135900Z
SUMMARY:Private Function
LOCATION:clubhouse
DESCRIPTION:https://www.flindersyc.com.au/event-3099996\n\n\n\n
DTSTAMP:20260424T171447Z
END:VEVENT
END:VCALENDAR
