BEGIN:VCALENDAR
VERSION:2.0
METHOD:PUBLISH
BEGIN:VEVENT
UID:WILD_APRICOT_EVENT_3100492_SESSION_1
DTSTART:20181226T053000Z
DTEND:20181226T053000Z
SUMMARY:OTB Racing Christmas Cup Pacer Challenge
LOCATION:FYC
DESCRIPTION:https://www.flindersyc.com.au/event-3100492\n\n3 Short Races in Club Pacers\n\n
DTSTAMP:20260424T161856Z
END:VEVENT
END:VCALENDAR
