BEGIN:VCALENDAR
VERSION:2.0
METHOD:PUBLISH
BEGIN:VEVENT
UID:WILD_APRICOT_EVENT_3100499_SESSION_1
DTSTART:20190420T030000Z
DTEND:20190420T030000Z
SUMMARY:KB IFMT 1
LOCATION:FYC
DESCRIPTION:https://www.flindersyc.com.au/event-3100499\n\n\n\n
DTSTAMP:20260424T170908Z
END:VEVENT
END:VCALENDAR
